BEGIN:VCALENDAR
VERSION:2.0
PRODID:-//Tangaroa Blue - ECPv5.2.0//NONSGML v1.0//EN
CALSCALE:GREGORIAN
METHOD:PUBLISH
X-WR-CALNAME:Tangaroa Blue
X-ORIGINAL-URL:https://tbftemplates.staging.precedence.com.au
X-WR-CALDESC:Events for Tangaroa Blue
BEGIN:VTIMEZONE
TZID:Australia/Brisbane
BEGIN:STANDARD
TZOFFSETFROM:+1000
TZOFFSETTO:+1000
TZNAME:AEST
DTSTART:20200101T000000
END:STANDARD
END:VTIMEZONE
BEGIN:VEVENT
DTSTART;TZID=Australia/Brisbane:20200418T093000
DTEND;TZID=Australia/Brisbane:20200418T153000
DTSTAMP:20260425T133437
CREATED:20250209T070132Z
LAST-MODIFIED:20200209T070251Z
UID:6243-1587202200-1587223800@tbftemplates.staging.precedence.com.au
SUMMARY:Cape Kimberley Clean-Up\, Daintree\, QLD
DESCRIPTION:Do you live in the Daintree\, or just planning a visit? \nWhy not come along to help out with our quarterly clean-up at the lovely Cape Kimberley? \nCome along and join other volunteers to make a practical contribution to the health of the marine and coastal environment. Tangaroa Blue Coordinators will meet you in the car park at the end of Cape Kimberley Rd at 9.30am or contact us if you would like to travel north with us from Cairns. \nWe will spend the morning collecting and recording marine debris for inclusion in the Australian Marine Debris Initiative (AMDI) database. This is the national database that is used to identify sources of marine debris and find ways to reduce litter in the environment.\nThe event is part of the ReefClean program\, aiming to clean-up reduce the volume of marine debris generated in or entering the Great Barrier Reef and threatening the health of the reef and its inhabitants. \nVolunteers need to wear enclosed shoes\, bring sun/rain protection\, and plenty of drinking water (1 to 2 litres is recommended). We try to ensure that all Tangaroa Blue events are free from single-use plastic\, so bring along your reusable water bottle. All equipment and drinking water top-ups will be provided. \nTo register or for any questions\, please email info@tangaroablue.org \nReefClean is funded by the Australian Government’s Reef Trust and is delivered by the Tangaroa Blue Foundation and Conservation Volunteers Australia.
URL:https://tbftemplates.staging.precedence.com.au/event/cape-kimberley-clean-up-daintree-qld/
LOCATION:Cape Kimberley\, QLD\, Australia
CATEGORIES:AMDI,Beach Clean Ups,ReefClean
ATTACH;FMTTYPE=image/jpeg:https://tbftemplates.staging.precedence.com.au/wp-content/uploads/2020/02/Beach-Clean-Up.jpg
END:VEVENT
END:VCALENDAR